BEGIN:VCALENDAR
VERSION:2.0
PRODID:-//mWEB//NONSGML mWEB//NB
URL:https://www.beroa.no/kalender/ics
X-WR-CALNAME:Berøa Langåker
REFRESH-INTERVAL;VALUE=DURATION:PT6H
X-PUBLISHED-TTL:PT6H    
CALSCALE:GREGORIAN
BEGIN:VEVENT
UID:beroa.no-2912
DTSTAMP:20260424T185056Z
DTSTART:20240128T100000Z
DTEND:20240128T113000Z
URL:https://www.beroa.no/kalender/2024/01/28/sondagsskole/2912/
CREATED:20240114T111029Z
LAST-MODIFIED:20240114T111029Z
SUMMARY:Søndagsskole
DESCRIPTION:\n\nhttps://www.beroa.no/kalender/2024/01/28/sondagsskole/2912/
END:VEVENT

END:VCALENDAR