BEGIN:VCALENDAR
VERSION:2.0
PRODID:-//mWEB//NONSGML mWEB//NB
URL:https://www.beroa.no/kalender/ics
X-WR-CALNAME:Berøa Langåker
REFRESH-INTERVAL;VALUE=DURATION:PT6H
X-PUBLISHED-TTL:PT6H    
CALSCALE:GREGORIAN
BEGIN:VEVENT
UID:beroa.no-2919
DTSTAMP:20260424T190307Z
DTSTART:20240131T190000Z
DTEND:20240131T203000Z
URL:https://www.beroa.no/kalender/2024/01/31/elieserlaget/2919/
CREATED:20240130T212400Z
LAST-MODIFIED:20240130T212404Z
SUMMARY:Elieserlaget
DESCRIPTION:\n\nhttps://www.beroa.no/kalender/2024/01/31/elieserlaget/2919/
END:VEVENT

END:VCALENDAR