BEGIN:VCALENDAR
VERSION:2.0
PRODID:-//mWEB//NONSGML mWEB//NB
URL:https://www.beroa.no/kalender/ics
X-WR-CALNAME:Berøa Langåker
REFRESH-INTERVAL;VALUE=DURATION:PT6H
X-PUBLISHED-TTL:PT6H    
CALSCALE:GREGORIAN
BEGIN:VEVENT
UID:beroa.no-2813
DTSTAMP:20260424T173155Z
DTSTART:20240204T100000Z
DTEND:20240204T113000Z
URL:https://www.beroa.no/kalender/2024/02/04/mote-tale-av-david-a-sjoen-tema-den-gode-hyrden-lovsangsgruppa-blir-med/2813/
CREATED:20231005T153838Z
LAST-MODIFIED:20240128T194544Z
SUMMARY:Møte - Tale av David A Sjøen. Tema: "Den gode hyrden".  Lovsangsgruppa blir med
DESCRIPTION:\n\nhttps://www.beroa.no/kalender/2024/02/04/mote-tale-av-david-a-sjoen-tema-den-gode-hyrden-lovsangsgruppa-blir-med/2813/
END:VEVENT

END:VCALENDAR