BEGIN:VCALENDAR
VERSION:2.0
PRODID:-//mWEB//NONSGML mWEB//NB
URL:https://www.beroa.no/kalender/ics
X-WR-CALNAME:Berøa Langåker
REFRESH-INTERVAL;VALUE=DURATION:PT6H
X-PUBLISHED-TTL:PT6H    
CALSCALE:GREGORIAN
BEGIN:VEVENT
UID:beroa.no-2922
DTSTAMP:20260424T172858Z
DTSTART:20240205T160000Z
DTEND:20240205T173000Z
URL:https://www.beroa.no/kalender/2024/02/05/mandagsklubben/2922/
CREATED:20240205T071836Z
LAST-MODIFIED:20240205T071836Z
SUMMARY:Mandagsklubben
DESCRIPTION:\n\nhttps://www.beroa.no/kalender/2024/02/05/mandagsklubben/2922/
END:VEVENT

END:VCALENDAR