BEGIN:VCALENDAR
VERSION:2.0
PRODID:-//mWEB//NONSGML mWEB//NB
URL:https://www.beroa.no/kalender/ics
X-WR-CALNAME:Berøa Langåker
REFRESH-INTERVAL;VALUE=DURATION:PT6H
X-PUBLISHED-TTL:PT6H    
CALSCALE:GREGORIAN
BEGIN:VEVENT
UID:beroa.no-2884
DTSTAMP:20260424T172831Z
DTSTART:20240206T183000Z
DTEND:20240206T200000Z
URL:https://www.beroa.no/kalender/2024/02/06/bonnesamling/2884/
CREATED:20231230T120123Z
LAST-MODIFIED:20231230T120125Z
SUMMARY:Bønnesamling
DESCRIPTION:\n\nhttps://www.beroa.no/kalender/2024/02/06/bonnesamling/2884/
END:VEVENT

END:VCALENDAR