BEGIN:VCALENDAR
VERSION:2.0
PRODID:-//mWEB//NONSGML mWEB//NB
URL:https://www.beroa.no/kalender/ics
X-WR-CALNAME:Berøa Langåker
REFRESH-INTERVAL;VALUE=DURATION:PT6H
X-PUBLISHED-TTL:PT6H    
CALSCALE:GREGORIAN
BEGIN:VEVENT
UID:beroa.no-2855
DTSTAMP:20260424T173432Z
DTSTART:20240211T183000Z
DTEND:20240211T200000Z
URL:https://www.beroa.no/kalender/2024/02/11/avlyst-pga-sykdom-sangkveld-med-borge-tjessem-og-kristin-tjelta/2855/
CREATED:20231115T175512Z
LAST-MODIFIED:20240211T085926Z
SUMMARY:AVLYST pga sykdom - Sangkveld med Børge Tjessem og Kristin Tjelta
DESCRIPTION:\n\nhttps://www.beroa.no/kalender/2024/02/11/avlyst-pga-sykdom-sangkveld-med-borge-tjessem-og-kristin-tjelta/2855/
END:VEVENT

END:VCALENDAR