BEGIN:VCALENDAR
VERSION:2.0
PRODID:-//mWEB//NONSGML mWEB//NB
URL:https://www.beroa.no/kalender/ics
X-WR-CALNAME:Berøa Langåker
REFRESH-INTERVAL;VALUE=DURATION:PT6H
X-PUBLISHED-TTL:PT6H    
CALSCALE:GREGORIAN
BEGIN:VEVENT
UID:beroa.no-2913
DTSTAMP:20260424T172653Z
DTSTART:20240211T100000Z
DTEND:20240211T113000Z
URL:https://www.beroa.no/kalender/2024/02/11/sondagsskole/2913/
CREATED:20240114T111130Z
LAST-MODIFIED:20240114T111130Z
SUMMARY:Søndagsskole
DESCRIPTION:\n\nhttps://www.beroa.no/kalender/2024/02/11/sondagsskole/2913/
END:VEVENT

END:VCALENDAR