BEGIN:VCALENDAR
VERSION:2.0
PRODID:-//mWEB//NONSGML mWEB//NB
URL:https://www.beroa.no/kalender/ics
X-WR-CALNAME:Berøa Langåker
REFRESH-INTERVAL;VALUE=DURATION:PT6H
X-PUBLISHED-TTL:PT6H    
CALSCALE:GREGORIAN
BEGIN:VEVENT
UID:beroa.no-2899
DTSTAMP:20260424T172834Z
DTSTART:20240215T183000Z
DTEND:20240215T200000Z
URL:https://www.beroa.no/kalender/2024/02/15/bibellesning/2899/
CREATED:20231230T122851Z
LAST-MODIFIED:20231230T122852Z
SUMMARY:Bibellesning
DESCRIPTION:\n\nhttps://www.beroa.no/kalender/2024/02/15/bibellesning/2899/
END:VEVENT

END:VCALENDAR