BEGIN:VCALENDAR
VERSION:2.0
PRODID:-//mWEB//NONSGML mWEB//NB
URL:https://www.beroa.no/kalender/ics
X-WR-CALNAME:Berøa Langåker
REFRESH-INTERVAL;VALUE=DURATION:PT6H
X-PUBLISHED-TTL:PT6H    
CALSCALE:GREGORIAN
BEGIN:VEVENT
UID:beroa.no-2717
DTSTAMP:20260424T173349Z
DTSTART:20240216T183000Z
DTEND:20240216T200000Z
URL:https://www.beroa.no/kalender/2024/02/16/mote-tale-av-per-gunnstein-nes-tema-israel-og-andre-endetidstegn-sang-av-tone-iren-ferkingstad/2717/
CREATED:20230625T175042Z
LAST-MODIFIED:20240206T213848Z
SUMMARY:Møte. Tale av Per Gunnstein Nes. Tema: "Israel og andre endetidstegn" Sang av Tone Iren Ferkingstad
DESCRIPTION:\n\nhttps://www.beroa.no/kalender/2024/02/16/mote-tale-av-per-gunnstein-nes-tema-israel-og-andre-endetidstegn-sang-av-tone-iren-ferkingstad/2717/
END:VEVENT

END:VCALENDAR