BEGIN:VCALENDAR
VERSION:2.0
PRODID:-//mWEB//NONSGML mWEB//NB
URL:https://www.beroa.no/kalender/ics
X-WR-CALNAME:Berøa Langåker
REFRESH-INTERVAL;VALUE=DURATION:PT6H
X-PUBLISHED-TTL:PT6H    
CALSCALE:GREGORIAN
BEGIN:VEVENT
UID:beroa.no-2718
DTSTAMP:20260424T173311Z
DTSTART:20240217T180000Z
DTEND:20240217T193000Z
URL:https://www.beroa.no/kalender/2024/02/17/mote-tale-av-per-gunnstein-nes-tema-israel-og-andre-endetidstegn-sang-av-ingfrid-og-sigurd/2718/
CREATED:20230625T175113Z
LAST-MODIFIED:20240206T213922Z
SUMMARY:Møte. Tale av Per Gunnstein Nes. Tema: "Israel og andre endetidstegn" Sang av Ingfrid og Sigurd.
DESCRIPTION:\n\nhttps://www.beroa.no/kalender/2024/02/17/mote-tale-av-per-gunnstein-nes-tema-israel-og-andre-endetidstegn-sang-av-ingfrid-og-sigurd/2718/
END:VEVENT

END:VCALENDAR