BEGIN:VCALENDAR
VERSION:2.0
PRODID:-//mWEB//NONSGML mWEB//NB
URL:https://www.beroa.no/kalender/ics
X-WR-CALNAME:Berøa Langåker
REFRESH-INTERVAL;VALUE=DURATION:PT6H
X-PUBLISHED-TTL:PT6H    
CALSCALE:GREGORIAN
BEGIN:VEVENT
UID:beroa.no-2797
DTSTAMP:20260424T173140Z
DTSTART:20240217T190000Z
DTEND:20240217T203000Z
URL:https://www.beroa.no/kalender/2024/02/17/ungdomsmote-betania/2797/
CREATED:20231001T182330Z
LAST-MODIFIED:20231001T182330Z
SUMMARY:Ungdomsmøte Betania
DESCRIPTION:\n\nhttps://www.beroa.no/kalender/2024/02/17/ungdomsmote-betania/2797/
END:VEVENT

END:VCALENDAR