BEGIN:VCALENDAR
VERSION:2.0
PRODID:-//mWEB//NONSGML mWEB//NB
URL:https://www.beroa.no/kalender/ics
X-WR-CALNAME:Berøa Langåker
REFRESH-INTERVAL;VALUE=DURATION:PT6H
X-PUBLISHED-TTL:PT6H    
CALSCALE:GREGORIAN
BEGIN:VEVENT
UID:beroa.no-2719
DTSTAMP:20260424T173358Z
DTSTART:20240218T100000Z
DTEND:20240218T113000Z
URL:https://www.beroa.no/kalender/2024/02/18/mote-tale-av-per-gunnstein-nes-tema-israel-og-andre-endetidstegn-lovsangsteamet-blir-med/2719/
CREATED:20230625T175158Z
LAST-MODIFIED:20240205T072910Z
SUMMARY:Møte. Tale av Per Gunnstein Nes\, tema "Israel og andre endetidstegn". Lovsangsteamet blir med
DESCRIPTION:\n\nhttps://www.beroa.no/kalender/2024/02/18/mote-tale-av-per-gunnstein-nes-tema-israel-og-andre-endetidstegn-lovsangsteamet-blir-med/2719/
END:VEVENT

END:VCALENDAR