BEGIN:VCALENDAR
VERSION:2.0
PRODID:-//mWEB//NONSGML mWEB//NB
URL:https://www.beroa.no/kalender/ics
X-WR-CALNAME:Berøa Langåker
REFRESH-INTERVAL;VALUE=DURATION:PT6H
X-PUBLISHED-TTL:PT6H    
CALSCALE:GREGORIAN
BEGIN:VEVENT
UID:beroa.no-2901
DTSTAMP:20260424T172714Z
DTSTART:20240222T183000Z
DTEND:20240222T200000Z
URL:https://www.beroa.no/kalender/2024/02/22/bibellesning/2901/
CREATED:20231230T122926Z
LAST-MODIFIED:20231230T122928Z
SUMMARY:Bibellesning
DESCRIPTION:\n\nhttps://www.beroa.no/kalender/2024/02/22/bibellesning/2901/
END:VEVENT

END:VCALENDAR