BEGIN:VCALENDAR
VERSION:2.0
PRODID:-//mWEB//NONSGML mWEB//NB
URL:https://www.beroa.no/kalender/ics
X-WR-CALNAME:Berøa Langåker
REFRESH-INTERVAL;VALUE=DURATION:PT6H
X-PUBLISHED-TTL:PT6H    
CALSCALE:GREGORIAN
BEGIN:VEVENT
UID:beroa.no-2887
DTSTAMP:20260424T172944Z
DTSTART:20240227T183000Z
DTEND:20240227T200000Z
URL:https://www.beroa.no/kalender/2024/02/27/bonnesamling/2887/
CREATED:20231230T120218Z
LAST-MODIFIED:20231230T120219Z
SUMMARY:Bønnesamling
DESCRIPTION:\n\nhttps://www.beroa.no/kalender/2024/02/27/bonnesamling/2887/
END:VEVENT

END:VCALENDAR