BEGIN:VCALENDAR
VERSION:2.0
PRODID:-//mWEB//NONSGML mWEB//NB
URL:https://www.beroa.no/kalender/ics
X-WR-CALNAME:Berøa Langåker
REFRESH-INTERVAL;VALUE=DURATION:PT6H
X-PUBLISHED-TTL:PT6H    
CALSCALE:GREGORIAN
BEGIN:VEVENT
UID:beroa.no-2872
DTSTAMP:20260424T172954Z
DTSTART:20240228T183000Z
DTEND:20240228T200000Z
URL:https://www.beroa.no/kalender/2024/02/28/ovelse-lovsangsgruppa/2872/
CREATED:20231120T203951Z
LAST-MODIFIED:20231120T203951Z
SUMMARY:Øvelse Lovsangsgruppa
DESCRIPTION:\n\nhttps://www.beroa.no/kalender/2024/02/28/ovelse-lovsangsgruppa/2872/
END:VEVENT

END:VCALENDAR