BEGIN:VCALENDAR
VERSION:2.0
PRODID:-//mWEB//NONSGML mWEB//NB
URL:https://www.beroa.no/kalender/ics
X-WR-CALNAME:Berøa Langåker
REFRESH-INTERVAL;VALUE=DURATION:PT6H
X-PUBLISHED-TTL:PT6H    
CALSCALE:GREGORIAN
BEGIN:VEVENT
UID:beroa.no-2902
DTSTAMP:20260424T172715Z
DTSTART:20240229T183000Z
DTEND:20240229T200000Z
URL:https://www.beroa.no/kalender/2024/02/29/bibellesning/2902/
CREATED:20231230T122944Z
LAST-MODIFIED:20231230T122945Z
SUMMARY:Bibellesning
DESCRIPTION:\n\nhttps://www.beroa.no/kalender/2024/02/29/bibellesning/2902/
END:VEVENT

END:VCALENDAR