BEGIN:VCALENDAR
VERSION:2.0
PRODID:-//mWEB//NONSGML mWEB//NB
URL:https://www.beroa.no/kalender/ics
X-WR-CALNAME:Berøa Langåker
REFRESH-INTERVAL;VALUE=DURATION:PT6H
X-PUBLISHED-TTL:PT6H    
CALSCALE:GREGORIAN
BEGIN:VEVENT
UID:beroa.no-2924
DTSTAMP:20260424T114231Z
DTSTART:20240304T160000Z
DTEND:20240304T173000Z
URL:https://www.beroa.no/kalender/2024/03/04/mandagsklubben/2924/
CREATED:20240205T071927Z
LAST-MODIFIED:20240205T071927Z
SUMMARY:Mandagsklubben
DESCRIPTION:\n\nhttps://www.beroa.no/kalender/2024/03/04/mandagsklubben/2924/
END:VEVENT

END:VCALENDAR