BEGIN:VCALENDAR
VERSION:2.0
PRODID:-//mWEB//NONSGML mWEB//NB
URL:https://www.beroa.no/kalender/ics
X-WR-CALNAME:Berøa Langåker
REFRESH-INTERVAL;VALUE=DURATION:PT6H
X-PUBLISHED-TTL:PT6H    
CALSCALE:GREGORIAN
BEGIN:VEVENT
UID:beroa.no-2908
DTSTAMP:20260424T114323Z
DTSTART:20240304T230000Z
DTEND:20240305T225900Z
URL:https://www.beroa.no/kalender/2024/03/05/smak-og-se-pa-beroa/2908/
CREATED:20240104T172250Z
LAST-MODIFIED:20240104T172251Z
SUMMARY:Smak og Se på Berøa
DESCRIPTION:\n\nhttps://www.beroa.no/kalender/2024/03/05/smak-og-se-pa-beroa/2908/
X-MICROSOFT-CDO-ALLDAYEVENT:TRUE
END:VEVENT

END:VCALENDAR