BEGIN:VCALENDAR
VERSION:2.0
PRODID:-//mWEB//NONSGML mWEB//NB
URL:https://www.beroa.no/kalender/ics
X-WR-CALNAME:Berøa Langåker
REFRESH-INTERVAL;VALUE=DURATION:PT6H
X-PUBLISHED-TTL:PT6H    
CALSCALE:GREGORIAN
BEGIN:VEVENT
UID:beroa.no-2903
DTSTAMP:20260424T114021Z
DTSTART:20240307T183000Z
DTEND:20240307T200000Z
URL:https://www.beroa.no/kalender/2024/03/07/bibellesning/2903/
CREATED:20231230T123017Z
LAST-MODIFIED:20231230T123018Z
SUMMARY:Bibellesning
DESCRIPTION:\n\nhttps://www.beroa.no/kalender/2024/03/07/bibellesning/2903/
END:VEVENT

END:VCALENDAR