BEGIN:VCALENDAR
VERSION:2.0
PRODID:-//mWEB//NONSGML mWEB//NB
URL:https://www.beroa.no/kalender/ics
X-WR-CALNAME:Berøa Langåker
REFRESH-INTERVAL;VALUE=DURATION:PT6H
X-PUBLISHED-TTL:PT6H    
CALSCALE:GREGORIAN
BEGIN:VEVENT
UID:beroa.no-2803
DTSTAMP:20260424T114435Z
DTSTART:20240309T190000Z
DTEND:20240309T203000Z
URL:https://www.beroa.no/kalender/2024/03/09/zennep-i-skudehallen/2803/
CREATED:20231001T183916Z
LAST-MODIFIED:20240303T194005Z
SUMMARY:Zennep i Skudehallen
DESCRIPTION:\n\nhttps://www.beroa.no/kalender/2024/03/09/zennep-i-skudehallen/2803/
END:VEVENT

END:VCALENDAR