BEGIN:VCALENDAR
VERSION:2.0
PRODID:-//mWEB//NONSGML mWEB//NB
URL:https://www.beroa.no/kalender/ics
X-WR-CALNAME:Berøa Langåker
REFRESH-INTERVAL;VALUE=DURATION:PT6H
X-PUBLISHED-TTL:PT6H    
CALSCALE:GREGORIAN
BEGIN:VEVENT
UID:beroa.no-2856
DTSTAMP:20260424T114922Z
DTSTART:20240310T183000Z
DTEND:20240310T200000Z
URL:https://www.beroa.no/kalender/2024/03/10/mote-tale-av-helge-tonnes-langaker-sang-av-ole-langaker-og-sigurd-medhaug/2856/
CREATED:20231115T175817Z
LAST-MODIFIED:20240206T214158Z
SUMMARY:Møte. Tale av Helge Tønnes Langåker. Sang av Ole Langåker og Sigurd Medhaug.
DESCRIPTION:\n\nhttps://www.beroa.no/kalender/2024/03/10/mote-tale-av-helge-tonnes-langaker-sang-av-ole-langaker-og-sigurd-medhaug/2856/
END:VEVENT

END:VCALENDAR