BEGIN:VCALENDAR
VERSION:2.0
PRODID:-//mWEB//NONSGML mWEB//NB
URL:https://www.beroa.no/kalender/ics
X-WR-CALNAME:Berøa Langåker
REFRESH-INTERVAL;VALUE=DURATION:PT6H
X-PUBLISHED-TTL:PT6H    
CALSCALE:GREGORIAN
BEGIN:VEVENT
UID:beroa.no-2915
DTSTAMP:20260424T114446Z
DTSTART:20240310T100000Z
DTEND:20240310T113000Z
URL:https://www.beroa.no/kalender/2024/03/10/sondagsskole-med-paskefrokost/2915/
CREATED:20240114T111234Z
LAST-MODIFIED:20240114T111234Z
SUMMARY:Søndagsskole med påskefrokost
DESCRIPTION:\n\nhttps://www.beroa.no/kalender/2024/03/10/sondagsskole-med-paskefrokost/2915/
END:VEVENT

END:VCALENDAR