BEGIN:VCALENDAR
VERSION:2.0
PRODID:-//mWEB//NONSGML mWEB//NB
URL:https://www.beroa.no/kalender/ics
X-WR-CALNAME:Berøa Langåker
REFRESH-INTERVAL;VALUE=DURATION:PT6H
X-PUBLISHED-TTL:PT6H    
CALSCALE:GREGORIAN
BEGIN:VEVENT
UID:beroa.no-2904
DTSTAMP:20260424T114149Z
DTSTART:20240314T183000Z
DTEND:20240314T200000Z
URL:https://www.beroa.no/kalender/2024/03/14/bibellesning/2904/
CREATED:20231230T123039Z
LAST-MODIFIED:20231230T123040Z
SUMMARY:Bibellesning
DESCRIPTION:\n\nhttps://www.beroa.no/kalender/2024/03/14/bibellesning/2904/
END:VEVENT

END:VCALENDAR