BEGIN:VCALENDAR
VERSION:2.0
PRODID:-//mWEB//NONSGML mWEB//NB
URL:https://www.beroa.no/kalender/ics
X-WR-CALNAME:Berøa Langåker
REFRESH-INTERVAL;VALUE=DURATION:PT6H
X-PUBLISHED-TTL:PT6H    
CALSCALE:GREGORIAN
BEGIN:VEVENT
UID:beroa.no-2793
DTSTAMP:20260424T114841Z
DTSTART:20240316T170000Z
DTEND:20240316T183000Z
URL:https://www.beroa.no/kalender/2024/03/16/lordagssamling-tale-av-anna-kristin-rosberg-lovsangsgruppa-blir-med/2793/
CREATED:20230924T135235Z
LAST-MODIFIED:20240104T172857Z
SUMMARY:Lørdagssamling. Tale av Anna Kristin Rosberg. Lovsangsgruppa blir med
DESCRIPTION:\n\nhttps://www.beroa.no/kalender/2024/03/16/lordagssamling-tale-av-anna-kristin-rosberg-lovsangsgruppa-blir-med/2793/
END:VEVENT

END:VCALENDAR