BEGIN:VCALENDAR
VERSION:2.0
PRODID:-//mWEB//NONSGML mWEB//NB
URL:https://www.beroa.no/kalender/ics
X-WR-CALNAME:Berøa Langåker
REFRESH-INTERVAL;VALUE=DURATION:PT6H
X-PUBLISHED-TTL:PT6H    
CALSCALE:GREGORIAN
BEGIN:VEVENT
UID:beroa.no-2798
DTSTAMP:20260424T114643Z
DTSTART:20240316T190000Z
DTEND:20240316T203000Z
URL:https://www.beroa.no/kalender/2024/03/16/ungdomsmote-betania/2798/
CREATED:20231001T182351Z
LAST-MODIFIED:20231001T182351Z
SUMMARY:Ungdomsmøte Betania
DESCRIPTION:\n\nhttps://www.beroa.no/kalender/2024/03/16/ungdomsmote-betania/2798/
END:VEVENT

END:VCALENDAR