BEGIN:VCALENDAR
VERSION:2.0
PRODID:-//mWEB//NONSGML mWEB//NB
URL:https://www.beroa.no/kalender/ics
X-WR-CALNAME:Berøa Langåker
REFRESH-INTERVAL;VALUE=DURATION:PT6H
X-PUBLISHED-TTL:PT6H    
CALSCALE:GREGORIAN
BEGIN:VEVENT
UID:beroa.no-2794
DTSTAMP:20260424T114805Z
DTSTART:20240317T100000Z
DTEND:20240317T113000Z
URL:https://www.beroa.no/kalender/2024/03/17/mote-tale-av-anna-kristin-rosberg-lovsangsgruppa-blir-med/2794/
CREATED:20230924T135341Z
LAST-MODIFIED:20240104T172913Z
SUMMARY:Møte.  Tale av Anna Kristin Rosberg. Lovsangsgruppa blir med
DESCRIPTION:\n\nhttps://www.beroa.no/kalender/2024/03/17/mote-tale-av-anna-kristin-rosberg-lovsangsgruppa-blir-med/2794/
END:VEVENT

END:VCALENDAR