BEGIN:VCALENDAR
VERSION:2.0
PRODID:-//mWEB//NONSGML mWEB//NB
URL:https://www.beroa.no/kalender/ics
X-WR-CALNAME:Berøa Langåker
REFRESH-INTERVAL;VALUE=DURATION:PT6H
X-PUBLISHED-TTL:PT6H    
CALSCALE:GREGORIAN
BEGIN:VEVENT
UID:beroa.no-2925
DTSTAMP:20260424T114148Z
DTSTART:20240318T160000Z
DTEND:20240318T173000Z
URL:https://www.beroa.no/kalender/2024/03/18/mandagsklubben/2925/
CREATED:20240205T072010Z
LAST-MODIFIED:20240205T072010Z
SUMMARY:Mandagsklubben
DESCRIPTION:\n\nhttps://www.beroa.no/kalender/2024/03/18/mandagsklubben/2925/
END:VEVENT

END:VCALENDAR