BEGIN:VCALENDAR
VERSION:2.0
PRODID:-//mWEB//NONSGML mWEB//NB
URL:https://www.beroa.no/kalender/ics
X-WR-CALNAME:Berøa Langåker
REFRESH-INTERVAL;VALUE=DURATION:PT6H
X-PUBLISHED-TTL:PT6H    
CALSCALE:GREGORIAN
BEGIN:VEVENT
UID:beroa.no-2890
DTSTAMP:20260424T114108Z
DTSTART:20240319T183000Z
DTEND:20240319T200000Z
URL:https://www.beroa.no/kalender/2024/03/19/bonnesamling/2890/
CREATED:20231230T120339Z
LAST-MODIFIED:20231230T120340Z
SUMMARY:Bønnesamling
DESCRIPTION:\n\nhttps://www.beroa.no/kalender/2024/03/19/bonnesamling/2890/
END:VEVENT

END:VCALENDAR