BEGIN:VCALENDAR
VERSION:2.0
PRODID:-//mWEB//NONSGML mWEB//NB
URL:https://www.beroa.no/kalender/ics
X-WR-CALNAME:Berøa Langåker
REFRESH-INTERVAL;VALUE=DURATION:PT6H
X-PUBLISHED-TTL:PT6H    
CALSCALE:GREGORIAN
BEGIN:VEVENT
UID:beroa.no-2957
DTSTAMP:20260424T114759Z
DTSTART:20240319T170000Z
DTEND:20240319T174500Z
URL:https://www.beroa.no/kalender/2024/03/19/informasjonsmote-smak-og-se-konfirmant/2957/
CREATED:20240310T081954Z
LAST-MODIFIED:20240310T081954Z
SUMMARY:Informasjonsmøte - Smak og se - Konfirmant
DESCRIPTION:Snart konfirmant? \n\n \n\nBerøa Langåker ønsker å tilby konfirmantundervisning/ trosopplæring: Smak og se. Sammen med flere bedehus på øya ønsker vi å tilby: \n\n-en bibeltro opplæring \n\n-sosialt samvær med venner \n\n- spennende aktiviteter\n\n \...\n\nhttps://www.beroa.no/kalender/2024/03/19/informasjonsmote-smak-og-se-konfirmant/2957/
END:VEVENT

END:VCALENDAR