BEGIN:VCALENDAR
VERSION:2.0
PRODID:-//mWEB//NONSGML mWEB//NB
URL:https://www.beroa.no/kalender/ics
X-WR-CALNAME:Berøa Langåker
REFRESH-INTERVAL;VALUE=DURATION:PT6H
X-PUBLISHED-TTL:PT6H    
CALSCALE:GREGORIAN
BEGIN:VEVENT
UID:beroa.no-2905
DTSTAMP:20260424T113836Z
DTSTART:20240321T183000Z
DTEND:20240321T200000Z
URL:https://www.beroa.no/kalender/2024/03/21/bibellesning/2905/
CREATED:20231230T123057Z
LAST-MODIFIED:20231230T123058Z
SUMMARY:Bibellesning
DESCRIPTION:\n\nhttps://www.beroa.no/kalender/2024/03/21/bibellesning/2905/
END:VEVENT

END:VCALENDAR