BEGIN:VCALENDAR
VERSION:2.0
PRODID:-//mWEB//NONSGML mWEB//NB
URL:https://www.beroa.no/kalender/ics
X-WR-CALNAME:Berøa Langåker
REFRESH-INTERVAL;VALUE=DURATION:PT6H
X-PUBLISHED-TTL:PT6H    
CALSCALE:GREGORIAN
BEGIN:VEVENT
UID:beroa.no-2819
DTSTAMP:20260424T113919Z
DTSTART:20240324T100000Z
DTEND:20240324T113000Z
URL:https://www.beroa.no/kalender/2024/03/24/brodsbrytelse/2819/
CREATED:20231005T154648Z
LAST-MODIFIED:20231005T154649Z
SUMMARY:Brødsbrytelse
DESCRIPTION:\n\nhttps://www.beroa.no/kalender/2024/03/24/brodsbrytelse/2819/
END:VEVENT

END:VCALENDAR