BEGIN:VCALENDAR
VERSION:2.0
PRODID:-//mWEB//NONSGML mWEB//NB
URL:https://www.beroa.no/kalender/ics
X-WR-CALNAME:Berøa Langåker
REFRESH-INTERVAL;VALUE=DURATION:PT6H
X-PUBLISHED-TTL:PT6H    
CALSCALE:GREGORIAN
BEGIN:VEVENT
UID:beroa.no-2724
DTSTAMP:20260424T114312Z
DTSTART:20240331T090000Z
DTEND:20240331T103000Z
URL:https://www.beroa.no/kalender/2024/03/31/mote-tale-av-einar-sjoen/2724/
CREATED:20230625T175711Z
LAST-MODIFIED:20230625T175714Z
SUMMARY:Møte. Tale av Einar Sjøen
DESCRIPTION:\n\nhttps://www.beroa.no/kalender/2024/03/31/mote-tale-av-einar-sjoen/2724/
END:VEVENT

END:VCALENDAR