BEGIN:VCALENDAR
VERSION:2.0
PRODID:-//mWEB//NONSGML mWEB//NB
URL:https://www.beroa.no/kalender/ics
X-WR-CALNAME:Berøa Langåker
REFRESH-INTERVAL;VALUE=DURATION:PT6H
X-PUBLISHED-TTL:PT6H    
CALSCALE:GREGORIAN
BEGIN:VEVENT
UID:beroa.no-2918
DTSTAMP:20260424T103627Z
DTSTART:20240403T170000Z
DTEND:20240403T183000Z
URL:https://www.beroa.no/kalender/2024/04/03/ledersamling-med-alexis-lundh/2918/
CREATED:20240124T180754Z
LAST-MODIFIED:20240124T180755Z
SUMMARY:Ledersamling med Alexis Lundh
DESCRIPTION:\n\nhttps://www.beroa.no/kalender/2024/04/03/ledersamling-med-alexis-lundh/2918/
END:VEVENT

END:VCALENDAR