BEGIN:VCALENDAR
VERSION:2.0
PRODID:-//mWEB//NONSGML mWEB//NB
URL:https://www.beroa.no/kalender/ics
X-WR-CALNAME:Berøa Langåker
REFRESH-INTERVAL;VALUE=DURATION:PT6H
X-PUBLISHED-TTL:PT6H    
CALSCALE:GREGORIAN
BEGIN:VEVENT
UID:beroa.no-2806
DTSTAMP:20260424T102526Z
DTSTART:20240406T190000Z
DTEND:20240406T203000Z
URL:https://www.beroa.no/kalender/2024/04/06/ungdomsmote-beroa/2806/
CREATED:20231001T185546Z
LAST-MODIFIED:20231001T191339Z
SUMMARY:Ungdomsmøte Berøa
DESCRIPTION:\n\nhttps://www.beroa.no/kalender/2024/04/06/ungdomsmote-beroa/2806/
END:VEVENT

END:VCALENDAR