BEGIN:VCALENDAR
VERSION:2.0
PRODID:-//mWEB//NONSGML mWEB//NB
URL:https://www.beroa.no/kalender/ics
X-WR-CALNAME:Berøa Langåker
REFRESH-INTERVAL;VALUE=DURATION:PT6H
X-PUBLISHED-TTL:PT6H    
CALSCALE:GREGORIAN
BEGIN:VEVENT
UID:beroa.no-2857
DTSTAMP:20260424T104254Z
DTSTART:20240407T173000Z
DTEND:20240407T190000Z
URL:https://www.beroa.no/kalender/2024/04/07/mote-tale-av-klaus-muff-sang-av-ivan-underhaug/2857/
CREATED:20231115T175913Z
LAST-MODIFIED:20240124T180842Z
SUMMARY:Møte. Tale av Klaus Muff. Sang av Ivan Underhaug
DESCRIPTION:\n\nhttps://www.beroa.no/kalender/2024/04/07/mote-tale-av-klaus-muff-sang-av-ivan-underhaug/2857/
END:VEVENT

END:VCALENDAR