BEGIN:VCALENDAR
VERSION:2.0
PRODID:-//mWEB//NONSGML mWEB//NB
URL:https://www.beroa.no/kalender/ics
X-WR-CALNAME:Berøa Langåker
REFRESH-INTERVAL;VALUE=DURATION:PT6H
X-PUBLISHED-TTL:PT6H    
CALSCALE:GREGORIAN
BEGIN:VEVENT
UID:beroa.no-2942
DTSTAMP:20260424T101826Z
DTSTART:20240409T173000Z
DTEND:20240409T190000Z
URL:https://www.beroa.no/kalender/2024/04/09/bonnesamling/2942/
CREATED:20240301T182934Z
LAST-MODIFIED:20240301T182935Z
SUMMARY:Bønnesamling
DESCRIPTION:\n\nhttps://www.beroa.no/kalender/2024/04/09/bonnesamling/2942/
END:VEVENT

END:VCALENDAR