BEGIN:VCALENDAR
VERSION:2.0
PRODID:-//mWEB//NONSGML mWEB//NB
URL:https://www.beroa.no/kalender/ics
X-WR-CALNAME:Berøa Langåker
REFRESH-INTERVAL;VALUE=DURATION:PT6H
X-PUBLISHED-TTL:PT6H    
CALSCALE:GREGORIAN
BEGIN:VEVENT
UID:beroa.no-2951
DTSTAMP:20260424T102839Z
DTSTART:20240411T173000Z
DTEND:20240411T190000Z
URL:https://www.beroa.no/kalender/2024/04/11/bibellesning/2951/
CREATED:20240301T184151Z
LAST-MODIFIED:20240301T184152Z
SUMMARY:Bibellesning
DESCRIPTION:\n\nhttps://www.beroa.no/kalender/2024/04/11/bibellesning/2951/
END:VEVENT

END:VCALENDAR