BEGIN:VCALENDAR
VERSION:2.0
PRODID:-//mWEB//NONSGML mWEB//NB
URL:https://www.beroa.no/kalender/ics
X-WR-CALNAME:Berøa Langåker
REFRESH-INTERVAL;VALUE=DURATION:PT6H
X-PUBLISHED-TTL:PT6H    
CALSCALE:GREGORIAN
BEGIN:VEVENT
UID:beroa.no-2726
DTSTAMP:20260424T103627Z
DTSTART:20240412T173000Z
DTEND:20240412T190000Z
URL:https://www.beroa.no/kalender/2024/04/12/mote-med-oystein-og-henning-persson-sang-av-sevlandsgutane/2726/
CREATED:20230625T175940Z
LAST-MODIFIED:20240124T181034Z
SUMMARY:Møte med Øystein og Henning Persson. Sang av Sevlandsgutane
DESCRIPTION:\n\nhttps://www.beroa.no/kalender/2024/04/12/mote-med-oystein-og-henning-persson-sang-av-sevlandsgutane/2726/
END:VEVENT

END:VCALENDAR