BEGIN:VCALENDAR
VERSION:2.0
PRODID:-//mWEB//NONSGML mWEB//NB
URL:https://www.beroa.no/kalender/ics
X-WR-CALNAME:Berøa Langåker
REFRESH-INTERVAL;VALUE=DURATION:PT6H
X-PUBLISHED-TTL:PT6H    
CALSCALE:GREGORIAN
BEGIN:VEVENT
UID:beroa.no-2727
DTSTAMP:20260424T102526Z
DTSTART:20240413T160000Z
DTEND:20240413T173000Z
URL:https://www.beroa.no/kalender/2024/04/13/bibeltime-med-oystein-persson/2727/
CREATED:20230625T180013Z
LAST-MODIFIED:20230625T180016Z
SUMMARY:Bibeltime med Øystein Persson
DESCRIPTION:\n\nhttps://www.beroa.no/kalender/2024/04/13/bibeltime-med-oystein-persson/2727/
END:VEVENT

END:VCALENDAR