BEGIN:VCALENDAR
VERSION:2.0
PRODID:-//mWEB//NONSGML mWEB//NB
URL:https://www.beroa.no/kalender/ics
X-WR-CALNAME:Berøa Langåker
REFRESH-INTERVAL;VALUE=DURATION:PT6H
X-PUBLISHED-TTL:PT6H    
CALSCALE:GREGORIAN
BEGIN:VEVENT
UID:beroa.no-2728
DTSTAMP:20260424T104622Z
DTSTART:20240413T173000Z
DTEND:20240413T190000Z
URL:https://www.beroa.no/kalender/2024/04/13/mote-tale-av-henning-persson-sang-av-astrid-persson/2728/
CREATED:20230625T180050Z
LAST-MODIFIED:20240301T185008Z
SUMMARY:Møte. Tale av Henning Persson. Sang av Astrid Persson
DESCRIPTION:\n\nhttps://www.beroa.no/kalender/2024/04/13/mote-tale-av-henning-persson-sang-av-astrid-persson/2728/
END:VEVENT

END:VCALENDAR