BEGIN:VCALENDAR
VERSION:2.0
PRODID:-//mWEB//NONSGML mWEB//NB
URL:https://www.beroa.no/kalender/ics
X-WR-CALNAME:Berøa Langåker
REFRESH-INTERVAL;VALUE=DURATION:PT6H
X-PUBLISHED-TTL:PT6H    
CALSCALE:GREGORIAN
BEGIN:VEVENT
UID:beroa.no-2952
DTSTAMP:20260424T103320Z
DTSTART:20240418T170000Z
DTEND:20240418T183000Z
URL:https://www.beroa.no/kalender/2024/04/18/romerbrevet-en-fremforing/2952/
CREATED:20240301T184256Z
LAST-MODIFIED:20240407T121702Z
SUMMARY:Romerbrevet - en fremføring
DESCRIPTION:\n\nhttps://www.beroa.no/kalender/2024/04/18/romerbrevet-en-fremforing/2952/
END:VEVENT

END:VCALENDAR