BEGIN:VCALENDAR
VERSION:2.0
PRODID:-//mWEB//NONSGML mWEB//NB
URL:https://www.beroa.no/kalender/ics
X-WR-CALNAME:Berøa Langåker
REFRESH-INTERVAL;VALUE=DURATION:PT6H
X-PUBLISHED-TTL:PT6H    
CALSCALE:GREGORIAN
BEGIN:VEVENT
UID:beroa.no-2962
DTSTAMP:20260424T103722Z
DTSTART:20240425T173000Z
DTEND:20240425T190000Z
URL:https://www.beroa.no/kalender/2024/04/25/mote-med-anniken-akira-og-paul-mondo-mori/2962/
CREATED:20240311T093653Z
LAST-MODIFIED:20240311T093653Z
SUMMARY:Møte med Anniken\, Akira og Paul Mondo Mori
DESCRIPTION:Tale\, sang og vitnespyrd\n\nhttps://www.beroa.no/kalender/2024/04/25/mote-med-anniken-akira-og-paul-mondo-mori/2962/
END:VEVENT

END:VCALENDAR