BEGIN:VCALENDAR
VERSION:2.0
PRODID:-//mWEB//NONSGML mWEB//NB
URL:https://www.beroa.no/kalender/ics
X-WR-CALNAME:Berøa Langåker
REFRESH-INTERVAL;VALUE=DURATION:PT6H
X-PUBLISHED-TTL:PT6H    
CALSCALE:GREGORIAN
BEGIN:VEVENT
UID:beroa.no-2820
DTSTAMP:20260424T101544Z
DTSTART:20240428T173000Z
DTEND:20240428T190000Z
URL:https://www.beroa.no/kalender/2024/04/28/brodsbrytelse/2820/
CREATED:20231005T154847Z
LAST-MODIFIED:20240415T174103Z
SUMMARY:Brødsbrytelse
DESCRIPTION:\n\nhttps://www.beroa.no/kalender/2024/04/28/brodsbrytelse/2820/
END:VEVENT

END:VCALENDAR