BEGIN:VCALENDAR
VERSION:2.0
PRODID:-//mWEB//NONSGML mWEB//NB
URL:https://www.beroa.no/kalender/ics
X-WR-CALNAME:Berøa Langåker
REFRESH-INTERVAL;VALUE=DURATION:PT6H
X-PUBLISHED-TTL:PT6H    
CALSCALE:GREGORIAN
BEGIN:VEVENT
UID:beroa.no-2926
DTSTAMP:20260424T101934Z
DTSTART:20240429T150000Z
DTEND:20240429T163000Z
URL:https://www.beroa.no/kalender/2024/04/29/mandagsklubben/2926/
CREATED:20240205T072308Z
LAST-MODIFIED:20240205T072308Z
SUMMARY:Mandagsklubben
DESCRIPTION:\n\nhttps://www.beroa.no/kalender/2024/04/29/mandagsklubben/2926/
END:VEVENT

END:VCALENDAR