BEGIN:VCALENDAR
VERSION:2.0
PRODID:-//mWEB//NONSGML mWEB//NB
URL:https://www.beroa.no/kalender/ics
X-WR-CALNAME:Berøa Langåker
REFRESH-INTERVAL;VALUE=DURATION:PT6H
X-PUBLISHED-TTL:PT6H    
CALSCALE:GREGORIAN
BEGIN:VEVENT
UID:beroa.no-2954
DTSTAMP:20260424T085759Z
DTSTART:20240502T173000Z
DTEND:20240502T190000Z
URL:https://www.beroa.no/kalender/2024/05/02/bibellesning/2954/
CREATED:20240301T184354Z
LAST-MODIFIED:20240301T184355Z
SUMMARY:Bibellesning
DESCRIPTION:\n\nhttps://www.beroa.no/kalender/2024/05/02/bibellesning/2954/
END:VEVENT

END:VCALENDAR