BEGIN:VCALENDAR
VERSION:2.0
PRODID:-//mWEB//NONSGML mWEB//NB
URL:https://www.beroa.no/kalender/ics
X-WR-CALNAME:Berøa Langåker
REFRESH-INTERVAL;VALUE=DURATION:PT6H
X-PUBLISHED-TTL:PT6H    
CALSCALE:GREGORIAN
BEGIN:VEVENT
UID:beroa.no-2876
DTSTAMP:20260424T085928Z
DTSTART:20240508T173000Z
DTEND:20240508T190000Z
URL:https://www.beroa.no/kalender/2024/05/08/ovelse-lovsangsgruppa/2876/
CREATED:20231120T204118Z
LAST-MODIFIED:20231120T204118Z
SUMMARY:Øvelse Lovsangsgruppa
DESCRIPTION:\n\nhttps://www.beroa.no/kalender/2024/05/08/ovelse-lovsangsgruppa/2876/
END:VEVENT

END:VCALENDAR