BEGIN:VCALENDAR
VERSION:2.0
PRODID:-//mWEB//NONSGML mWEB//NB
URL:https://www.beroa.no/kalender/ics
X-WR-CALNAME:Berøa Langåker
REFRESH-INTERVAL;VALUE=DURATION:PT6H
X-PUBLISHED-TTL:PT6H    
CALSCALE:GREGORIAN
BEGIN:VEVENT
UID:beroa.no-2939
DTSTAMP:20260424T085508Z
DTSTART:20240512T100000Z
DTEND:20240512T113000Z
URL:https://www.beroa.no/kalender/2024/05/12/priv-arr/2939/
CREATED:20240224T095250Z
LAST-MODIFIED:20240224T095251Z
SUMMARY:Priv arr
DESCRIPTION:\n\nhttps://www.beroa.no/kalender/2024/05/12/priv-arr/2939/
END:VEVENT

END:VCALENDAR