BEGIN:VCALENDAR
VERSION:2.0
PRODID:-//mWEB//NONSGML mWEB//NB
URL:https://www.beroa.no/kalender/ics
X-WR-CALNAME:Berøa Langåker
REFRESH-INTERVAL;VALUE=DURATION:PT6H
X-PUBLISHED-TTL:PT6H    
CALSCALE:GREGORIAN
BEGIN:VEVENT
UID:beroa.no-2859
DTSTAMP:20260424T090139Z
DTSTART:20240512T173000Z
DTEND:20240512T190000Z
URL:https://www.beroa.no/kalender/2024/05/12/sangmote-med-borge-tjessem/2859/
CREATED:20231115T212606Z
LAST-MODIFIED:20240506T165933Z
SUMMARY:Sangmøte med Børge Tjessem
DESCRIPTION:\n\nhttps://www.beroa.no/kalender/2024/05/12/sangmote-med-borge-tjessem/2859/
END:VEVENT

END:VCALENDAR