BEGIN:VCALENDAR
VERSION:2.0
PRODID:-//mWEB//NONSGML mWEB//NB
URL:https://www.beroa.no/kalender/ics
X-WR-CALNAME:Berøa Langåker
REFRESH-INTERVAL;VALUE=DURATION:PT6H
X-PUBLISHED-TTL:PT6H    
CALSCALE:GREGORIAN
BEGIN:VEVENT
UID:beroa.no-2927
DTSTAMP:20260424T085715Z
DTSTART:20240513T150000Z
DTEND:20240513T163000Z
URL:https://www.beroa.no/kalender/2024/05/13/mandagsklubben/2927/
CREATED:20240205T072327Z
LAST-MODIFIED:20240205T072327Z
SUMMARY:Mandagsklubben
DESCRIPTION:\n\nhttps://www.beroa.no/kalender/2024/05/13/mandagsklubben/2927/
END:VEVENT

END:VCALENDAR