BEGIN:VCALENDAR
VERSION:2.0
PRODID:-//mWEB//NONSGML mWEB//NB
URL:https://www.beroa.no/kalender/ics
X-WR-CALNAME:Berøa Langåker
REFRESH-INTERVAL;VALUE=DURATION:PT6H
X-PUBLISHED-TTL:PT6H    
CALSCALE:GREGORIAN
BEGIN:VEVENT
UID:beroa.no-2909
DTSTAMP:20260424T085509Z
DTSTART:20240519T173000Z
DTEND:20240519T190000Z
URL:https://www.beroa.no/kalender/2024/05/19/brodsbrytelse/2909/
CREATED:20240109T164658Z
LAST-MODIFIED:20240515T201610Z
SUMMARY:Brødsbrytelse
DESCRIPTION:\n\nhttps://www.beroa.no/kalender/2024/05/19/brodsbrytelse/2909/
END:VEVENT

END:VCALENDAR